BEGIN:VCALENDAR
VERSION:2.0
PRODID:-//https://fceschenbach.ch///NONSGML kigkonsult.se iCalcreator 2.10.15//
METHOD:PUBLISH
BEGIN:VEVENT
UID:20260425T010339CEST-7654KGrFDd@https://fceschenbach.ch/
DTSTAMP:20260424T230339Z
DESCRIPTION: https://fceschenbach.ch/component/rseventspro/event/140-hergis
 wil-eschenbach.html
DTSTART:20221008T150000Z
DTEND:20221008T170000Z
LOCATION:Sportplatz Grossmatt\, Hergiswil - 1 ()
SUMMARY:Hergiswil - Eschenbach
URL:https://fceschenbach.ch/component/rseventspro/event/140-hergiswil-esche
 nbach.html
END:VEVENT
END:VCALENDAR
