BEGIN:VCALENDAR
VERSION:2.0
PRODID:-//https://fceschenbach.ch///NONSGML kigkonsult.se iCalcreator 2.10.15//
METHOD:PUBLISH
BEGIN:VEVENT
UID:20260424T173143CEST-4804zBK9VK@https://fceschenbach.ch/
DTSTAMP:20260424T153143Z
DESCRIPTION: https://fceschenbach.ch/component/rseventspro/event/183-eschen
 bach-cham-ii.html
DTSTART:20230318T170000Z
DTEND:20230318T190000Z
LOCATION:Weiherhus Eschenbach ()
SUMMARY:Eschenbach - Cham II
URL:https://fceschenbach.ch/component/rseventspro/event/183-eschenbach-cham
 -ii.html
END:VEVENT
END:VCALENDAR
