BEGIN:VCALENDAR
VERSION:2.0
PRODID:-//https://fceschenbach.ch///NONSGML kigkonsult.se iCalcreator 2.10.15//
METHOD:PUBLISH
BEGIN:VEVENT
UID:20260425T124828CEST-9713ruxHwt@https://fceschenbach.ch/
DTSTAMP:20260425T104828Z
DESCRIPTION:MATCHTELEGRAMMNovazzano - Eschenbach 0:4 (0:0)Campo comunale Mo
 rbio Inferiore. - 70 Zuschauer. - SR: Cassiani. -&nbsp\;Tore:&nbsp\;51. Hö
 ltschi 0:1. 66. Szymanski 0:2. 75. Rajic 0:3. 93. Ulrich 0:4. -&nbsp\;Nova
 zzano:&nbsp\;Candeloro\; Melchiorre (70.Gimenez)\, Frigerio\, Barone\, Tra
 ore (18. De Felice)\; Chinchio (54. Manicone)\; Sala (54. De Cillis)\, Mar
 tegani (70. Ferrari)\, Pesavento\, Vago\; Bini. - Eschenbach: Bachmann\; A
 rnold\, Gurtner\, Dahinden\, Emmenegger\; Niederberger (60. Barmet)\, Rina
 ldo (75. Wirz)\, Escher\, Szymanski (79. Hug)\; Höltschi (67. Raijc)\; Osm
 anbasic (90. Ulrich). -&nbsp\;Bemerkungen:&nbsp\;32. Pfostenschuss Bini. E
 schenbach ohne Peter\, Hofmann\, Mulaj\, Bajrami\, Fleischli\, Träger und 
 Çollaku. https://fceschenbach.ch/component/rseventspro/event/190-novazzano
 -eschenbach.html
DTSTART:20211010T130000Z
DTEND:20211010T150000Z
LOCATION:Campo comunale Morbio\, Morbio Inferiore (Via Campo Sportivo\, 683
 4 Morbio Inferiore\, Schweiz)
SUMMARY:Novazzano - Eschenbach
URL:https://fceschenbach.ch/component/rseventspro/event/190-novazzano-esche
 nbach.html
END:VEVENT
END:VCALENDAR
