BEGIN:VCALENDAR
VERSION:2.0
PRODID:-//https://fceschenbach.ch///NONSGML kigkonsult.se iCalcreator 2.10.15//
METHOD:PUBLISH
BEGIN:VEVENT
UID:20260424T232658CEST-2967t8OabE@https://fceschenbach.ch/
DTSTAMP:20260424T212658Z
DESCRIPTION: https://fceschenbach.ch/verein/termine/event/141-eschenbach-ib
 ach.html
DTSTART:20221105T170000Z
DTEND:20221105T190000Z
LOCATION:Weiherhus Eschenbach ()
SUMMARY:Eschenbach - Ibach
URL:https://fceschenbach.ch/verein/termine/event/141-eschenbach-ibach.html
END:VEVENT
END:VCALENDAR
