BEGIN:VCALENDAR
VERSION:2.0
PRODID:-//https://fceschenbach.ch///NONSGML kigkonsult.se iCalcreator 2.10.15//
METHOD:PUBLISH
BEGIN:VEVENT
UID:20260419T142241CEST-9207oZC72b@https://fceschenbach.ch/
DTSTAMP:20260419T122241Z
DESCRIPTION:Der FC Eschenbach feiert in diesem Jahr bereits sein 40. jährig
 es Jubiläum und organisiert zu diesem Anlass eine mehrtägige Jubiläumsfeie
 r. Alle Einwohner des Seetals\, unseren Sponsoren und Donatoren\, Vereine 
 aus dem Dorf\,&nbsp\;Freunde des FC Eschenbach und die&nbsp\;Vereinsmitgli
 eder&nbsp\;sind herzlich dazu eingeladen.&nbsp\;Freue dich auf ein interes
 santes Blitzturnier\, einen grossen Festbetrieb\, PublicViewing der Fussba
 ll WM\, ein Dorfturnier\, Kilbibetrieb und ein Gottesdienst mit Fahnenweih
 e.Freitag 29. Juni 2018 – BlitzturnierFestbetrieb von 17:30 bis 2:00 Uhr a
 uf dem Weiherhus17:30 Uhr&nbsp\;&nbsp\;&nbsp\;&nbsp\;&nbsp\;&nbsp\;&nbsp\;
 &nbsp\;&nbsp\;&nbsp\;&nbsp\; Grosses Apero für Mitglieder und Freunde18:00
  Uhr&nbsp\;&nbsp\;&nbsp\;&nbsp\;&nbsp\;&nbsp\;&nbsp\;&nbsp\;&nbsp\;&nbsp\;
 &nbsp\; Blitzturnier mit Mannschaften des FC Eschenbach22.00 Uhr&nbsp\;&nb
 sp\;&nbsp\;&nbsp\;&nbsp\;&nbsp\;&nbsp\;&nbsp\;&nbsp\;&nbsp\;&nbsp\; Konzer
 t Blues in the ShoesSamstag 30. Juni 2018 - Dorfturnier (INFOS)Festbetrieb
  von 9:00 bis 2:00 Uhr auf dem Weiherhus9:00 Uhr&nbsp\; &nbsp\; &nbsp\; &n
 bsp\; &nbsp\; &nbsp\; &nbsp\;Juniorenturnier mit Mannschaften des FC Esche
 nbach11.00 Uhr&nbsp\; &nbsp\; &nbsp\; &nbsp\; &nbsp\; &nbsp\;Grosses Dorft
 urnier mit gemischten Mannschaften16 / 20 Uhr&nbsp\; &nbsp\; &nbsp\; &nbsp
 \; &nbsp\;PublicViewing WM2018 auf Grossleinwand19 / 22:30 Uhr&nbsp\;&nbsp
 \;&nbsp\;&nbsp\; Akustische Unterhaltung und Konzert MohardSonntag 1. Juli
  2018 – Gottesdienst und KilbiKilbi von 11:30 bis 16:30 Uhr auf dem Kloste
 rplatzFestbetrieb von 16:00 bis 23:00 Uhr auf dem Weiherhus10:30 Uhr&nbsp\
 ;&nbsp\;&nbsp\;&nbsp\;&nbsp\;&nbsp\;&nbsp\;&nbsp\;&nbsp\;&nbsp\;&nbsp\; Go
 ttesdienst mit Fahnenweihe auf dem Klosterplatz11:30 Uhr&nbsp\;&nbsp\;&nbs
 p\;&nbsp\;&nbsp\;&nbsp\;&nbsp\;&nbsp\;&nbsp\;&nbsp\;&nbsp\; Grosses APERO 
 auf dem Klosterplatz16 / 20 Uhr&nbsp\;&nbsp\;&nbsp\;&nbsp\;&nbsp\;&nbsp\;&
 nbsp\;&nbsp\;&nbsp\; PublicViewing WM2018 auf GrossleinwandAnreise / Parkp
 lätzeWir bitten die Besucher mit den öffentlichen Verkehrsmitteln anzureis
 en. Dank der Zuglinie S9 erreicht man Eschenbach ab Luzern und Hochdorf in
  wenigen Minuten. Beim Bahnhof Eschenbach und dem Sportplatz Weiherhus ste
 ht eine begrenzte Anzahl Parkplätze für Privatfahrzeuge zur Verfügung.Hinw
 eisBei schlechtem Wetter entfällt der Kilbi-Betrieb auf dem Klosterplatz\,
  stattdessen ab 11:30 Uhr Festbetrieb auf dem Weiherhus. Informiere dich t
 elefonisch unter der Rufnummer 1600 über die Durchführung der Kilbi.\nWir 
 freuen uns auf ein grosses unvergessliches Fest und deinen Besuch bei uns 
 auf dem Sportplatz Weiherhus in Eschenbach.\n&nbsp\;\n\n&nbsp\; https://fc
 eschenbach.ch/verein/termine/event/142-jubiläumsfeier-40-jahre.html
DTSTART:20180629T150000Z
DTEND:20180701T200000Z
LOCATION:Weiherhus Eschenbach ()
SUMMARY:Jubiläumsfeier  - 40 Jahre
URL:https://fceschenbach.ch/verein/termine/event/142-jubiläumsfeier-40-jahr
 e.html
END:VEVENT
END:VCALENDAR
