BEGIN:VCALENDAR
VERSION:2.0
PRODID:-//https://fceschenbach.ch///NONSGML kigkonsult.se iCalcreator 2.10.15//
METHOD:PUBLISH
BEGIN:VEVENT
UID:20260424T232617CEST-6678DJTabu@https://fceschenbach.ch/
DTSTAMP:20260424T212617Z
DESCRIPTION:Geniesse die Spiele der Fussball WM 2018 bei uns auf dem Weiher
 hus. Wir übertragen ausgewählte Spiele live auf zwei gedeckten Grossleinwä
 nde. Dazu steht dir unsere preiswerte Gastronomie für Leib und Seele zur V
 erfügung. Erlebe mit deinen Freunden und der Familie eine gemütliche und l
 ockere Atmosphäre. Wir freuen uns auf deinen Besuch\, der Eintritt ist kos
 tenlos.\n\n&nbsp\; https://fceschenbach.ch/verein/termine/event/150-wm2018
 -public-viewing.html
DTSTART:20180614T160000Z
DTEND:20180715T140000Z
LOCATION:Weiherhus Eschenbach ()
SUMMARY:WM2018 Public Viewing
URL:https://fceschenbach.ch/verein/termine/event/150-wm2018-public-viewing.
 html
END:VEVENT
END:VCALENDAR
