BEGIN:VCALENDAR
VERSION:2.0
PRODID:-//https://fceschenbach.ch///NONSGML kigkonsult.se iCalcreator 2.10.15//
METHOD:PUBLISH
BEGIN:VEVENT
UID:20260419T160646CEST-0679OXnMT6@https://fceschenbach.ch/
DTSTAMP:20260419T140646Z
DESCRIPTION:Im Rahmen der Jubiläumsfeier organisiert der FC Eschenbach ein 
 grosses Dorfturnier für alle passionierten Fussballspieler. Der Anlass ist
  besonders für Firmen\, Vereine und alle Hobby-Fussballer geeignet. Melde 
 dich und deine Mannschaft gleich jetzt an.Was:&nbsp\;Dorfturnier mit gemis
 chten MannschaftenWann:&nbsp\;Samstag 30. Juni 2018 von 9 bis ca. 16 UhrWo
 :&nbsp\;Fussballplatz Weiherhus\, EschenbachKosten:&nbsp\;Die Teilnahme un
 d der Eintritt sind kostenlosKleidung:&nbsp\;Einheitliches Trikot ist Pfli
 cht\, Schienbeinschoner sind obligatorischTeamgrösse:&nbsp\;Empfohlen sind
  8 Spieler pro Team\,&nbsp\;mindestens 6 Spieler sind notwendig (5 Feldspi
 eler\, 1 Torwart)Organisatorisches: Es können auch reine Damen bzw. Herren
  Teams teilnehmen. Umkleidekabinen und Duschen sind vorhanden. Versicherun
 g ist Sache des Teilnehmers. Es wird keine Haftung für Diebstahl übernomme
 n. https://fceschenbach.ch/verein/termine/event/151-grosses-dorfturnier.ht
 ml
DTSTART:20180630T070000Z
DTEND:20180630T150000Z
LOCATION:Weiherhus Eschenbach ()
SUMMARY:Grosses Dorfturnier
URL:https://fceschenbach.ch/verein/termine/event/151-grosses-dorfturnier.ht
 ml
END:VEVENT
END:VCALENDAR
