BEGIN:VCALENDAR
VERSION:2.0
PRODID:-//https://fceschenbach.ch///NONSGML kigkonsult.se iCalcreator 2.10.15//
METHOD:PUBLISH
BEGIN:VEVENT
UID:20260419T213450CEST-2166MZorv1@https://fceschenbach.ch/
DTSTAMP:20260419T193450Z
DESCRIPTION: https://fceschenbach.ch/verein/termine/event/205-sempach-esche
 nbach.html
DTSTART:20260509T160000Z
DTEND:20260509T180000Z
LOCATION:Sportanlage Seeland\, Sempach (Seelandstrasse 4\, 6204 Sempach)
SUMMARY:Sempach - Eschenbach
URL:https://fceschenbach.ch/verein/termine/event/205-sempach-eschenbach.htm
 l
END:VEVENT
END:VCALENDAR
